BEGIN:VCALENDAR
VERSION:2.0
PRODID:-//Hedon Methodist Church - ECPv5.14.1//NONSGML v1.0//EN
CALSCALE:GREGORIAN
METHOD:PUBLISH
X-WR-CALNAME:Hedon Methodist Church
X-ORIGINAL-URL:https://hedonmethodistchurch.org.uk
X-WR-CALDESC:Events for Hedon Methodist Church
BEGIN:VTIMEZONE
TZID:Europe/London
BEGIN:DAYLIGHT
TZOFFSETFROM:+0000
TZOFFSETTO:+0100
TZNAME:BST
DTSTART:20190331T010000
END:DAYLIGHT
BEGIN:STANDARD
TZOFFSETFROM:+0100
TZOFFSETTO:+0000
TZNAME:GMT
DTSTART:20191027T010000
END:STANDARD
END:VTIMEZONE
BEGIN:VEVENT
DTSTART;TZID=Europe/London:20190805T093000
DTEND;TZID=Europe/London:20190805T113000
DTSTAMP:20260422T182045
CREATED:20190724T073002Z
LAST-MODIFIED:20190724T073002Z
UID:1462-1564997400-1565004600@hedonmethodistchurch.org.uk
SUMMARY:Art Club
DESCRIPTION:
URL:https://hedonmethodistchurch.org.uk/event/art-club-26/
END:VEVENT
BEGIN:VEVENT
DTSTART;TZID=Europe/London:20190805T133000
DTEND;TZID=Europe/London:20190805T153000
DTSTAMP:20260422T182045
CREATED:20190724T073314Z
LAST-MODIFIED:20190724T073314Z
UID:1478-1565011800-1565019000@hedonmethodistchurch.org.uk
SUMMARY:Craft Club
DESCRIPTION:
URL:https://hedonmethodistchurch.org.uk/event/craft-club-26/
END:VEVENT
END:VCALENDAR