BEGIN:VCALENDAR
VERSION:2.0
PRODID:-//Hedon Methodist Church - ECPv5.14.1//NONSGML v1.0//EN
CALSCALE:GREGORIAN
METHOD:PUBLISH
X-WR-CALNAME:Hedon Methodist Church
X-ORIGINAL-URL:https://hedonmethodistchurch.org.uk
X-WR-CALDESC:Events for Hedon Methodist Church
BEGIN:VTIMEZONE
TZID:Europe/London
BEGIN:DAYLIGHT
TZOFFSETFROM:+0000
TZOFFSETTO:+0100
TZNAME:BST
DTSTART:20190331T010000
END:DAYLIGHT
BEGIN:STANDARD
TZOFFSETFROM:+0100
TZOFFSETTO:+0000
TZNAME:GMT
DTSTART:20191027T010000
END:STANDARD
END:VTIMEZONE
BEGIN:VEVENT
DTSTART;TZID=Europe/London:20190801T143000
DTEND;TZID=Europe/London:20190801T160000
DTSTAMP:20260423T004530
CREATED:20190808T160022Z
LAST-MODIFIED:20190808T160022Z
UID:1628-1564669800-1564675200@hedonmethodistchurch.org.uk
SUMMARY:The Junction Community Coffee Lounge
DESCRIPTION:
URL:https://hedonmethodistchurch.org.uk/event/the-junction-community-coffee-lounge-8/
END:VEVENT
BEGIN:VEVENT
DTSTART;TZID=Europe/London:20190801T193000
DTEND;TZID=Europe/London:20190801T203000
DTSTAMP:20260423T004530
CREATED:20190808T153848Z
LAST-MODIFIED:20190808T153848Z
UID:1560-1564687800-1564691400@hedonmethodistchurch.org.uk
SUMMARY:Women's Institute
DESCRIPTION:
URL:https://hedonmethodistchurch.org.uk/event/womens-institute-14/
END:VEVENT
END:VCALENDAR