BEGIN:VCALENDAR
VERSION:2.0
PRODID:-//Hedon Methodist Church - ECPv5.14.1//NONSGML v1.0//EN
CALSCALE:GREGORIAN
METHOD:PUBLISH
X-WR-CALNAME:Hedon Methodist Church
X-ORIGINAL-URL:https://hedonmethodistchurch.org.uk
X-WR-CALDESC:Events for Hedon Methodist Church
BEGIN:VTIMEZONE
TZID:Europe/London
BEGIN:DAYLIGHT
TZOFFSETFROM:+0000
TZOFFSETTO:+0100
TZNAME:BST
DTSTART:20190331T010000
END:DAYLIGHT
BEGIN:STANDARD
TZOFFSETFROM:+0100
TZOFFSETTO:+0000
TZNAME:GMT
DTSTART:20191027T010000
END:STANDARD
END:VTIMEZONE
BEGIN:VEVENT
DTSTART;TZID=Europe/London:20190728T094500
DTEND;TZID=Europe/London:20190728T101500
DTSTAMP:20260423T070918
CREATED:20190602T171359Z
LAST-MODIFIED:20190602T171359Z
UID:1297-1564307100-1564308900@hedonmethodistchurch.org.uk
SUMMARY:Prayer in The Junction
DESCRIPTION:
URL:https://hedonmethodistchurch.org.uk/event/prayer-in-the-junction-28/
END:VEVENT
BEGIN:VEVENT
DTSTART;TZID=Europe/London:20190728T103000
DTEND;TZID=Europe/London:20190728T113000
DTSTAMP:20260423T070918
CREATED:20190602T171804Z
LAST-MODIFIED:20190724T071929Z
UID:1315-1564309800-1564313400@hedonmethodistchurch.org.uk
SUMMARY:Morning Worship
DESCRIPTION:Mrs Diana Parkes
URL:https://hedonmethodistchurch.org.uk/event/morning-worship-30/
END:VEVENT
BEGIN:VEVENT
DTSTART;TZID=Europe/London:20190728T103000
DTEND;TZID=Europe/London:20190728T113000
DTSTAMP:20260423T070918
CREATED:20190602T172355Z
LAST-MODIFIED:20190602T172355Z
UID:1333-1564309800-1564313400@hedonmethodistchurch.org.uk
SUMMARY:Sunday Club
DESCRIPTION:
URL:https://hedonmethodistchurch.org.uk/event/sunday-club-29/
END:VEVENT
END:VCALENDAR