BEGIN:VCALENDAR
VERSION:2.0
PRODID:-//Hedon Methodist Church - ECPv5.14.1//NONSGML v1.0//EN
CALSCALE:GREGORIAN
METHOD:PUBLISH
X-WR-CALNAME:Hedon Methodist Church
X-ORIGINAL-URL:https://hedonmethodistchurch.org.uk
X-WR-CALDESC:Events for Hedon Methodist Church
BEGIN:VTIMEZONE
TZID:Europe/London
BEGIN:DAYLIGHT
TZOFFSETFROM:+0000
TZOFFSETTO:+0100
TZNAME:BST
DTSTART:20190331T010000
END:DAYLIGHT
BEGIN:STANDARD
TZOFFSETFROM:+0100
TZOFFSETTO:+0000
TZNAME:GMT
DTSTART:20191027T010000
END:STANDARD
END:VTIMEZONE
BEGIN:VEVENT
DTSTART;TZID=Europe/London:20190721T094500
DTEND;TZID=Europe/London:20190721T101500
DTSTAMP:20260423T172409
CREATED:20190602T171329Z
LAST-MODIFIED:20190602T171329Z
UID:1295-1563702300-1563704100@hedonmethodistchurch.org.uk
SUMMARY:Prayer in The Junction
DESCRIPTION:
URL:https://hedonmethodistchurch.org.uk/event/prayer-in-the-junction-27/
END:VEVENT
BEGIN:VEVENT
DTSTART;TZID=Europe/London:20190721T103000
DTEND;TZID=Europe/London:20190721T113000
DTSTAMP:20260423T172409
CREATED:20190602T171740Z
LAST-MODIFIED:20190602T171740Z
UID:1313-1563705000-1563708600@hedonmethodistchurch.org.uk
SUMMARY:Morning Worship
DESCRIPTION:
URL:https://hedonmethodistchurch.org.uk/event/morning-worship-29/
END:VEVENT
BEGIN:VEVENT
DTSTART;TZID=Europe/London:20190721T103000
DTEND;TZID=Europe/London:20190721T113000
DTSTAMP:20260423T172409
CREATED:20190602T172331Z
LAST-MODIFIED:20190602T172331Z
UID:1331-1563705000-1563708600@hedonmethodistchurch.org.uk
SUMMARY:Sunday Club
DESCRIPTION:
URL:https://hedonmethodistchurch.org.uk/event/sunday-club-28/
END:VEVENT
BEGIN:VEVENT
DTSTART;TZID=Europe/London:20190721T183000
DTEND;TZID=Europe/London:20190721T193000
DTSTAMP:20260423T172409
CREATED:20190602T173629Z
LAST-MODIFIED:20190602T173629Z
UID:1354-1563733800-1563737400@hedonmethodistchurch.org.uk
SUMMARY:Alpha Course
DESCRIPTION:
URL:https://hedonmethodistchurch.org.uk/event/alpha-course-3/
END:VEVENT
END:VCALENDAR