BEGIN:VCALENDAR
VERSION:2.0
PRODID:-//Hedon Methodist Church - ECPv5.14.1//NONSGML v1.0//EN
CALSCALE:GREGORIAN
METHOD:PUBLISH
X-WR-CALNAME:Hedon Methodist Church
X-ORIGINAL-URL:https://hedonmethodistchurch.org.uk
X-WR-CALDESC:Events for Hedon Methodist Church
BEGIN:VTIMEZONE
TZID:Europe/London
BEGIN:DAYLIGHT
TZOFFSETFROM:+0000
TZOFFSETTO:+0100
TZNAME:BST
DTSTART:20190331T010000
END:DAYLIGHT
BEGIN:STANDARD
TZOFFSETFROM:+0100
TZOFFSETTO:+0000
TZNAME:GMT
DTSTART:20191027T010000
END:STANDARD
END:VTIMEZONE
BEGIN:VEVENT
DTSTART;VALUE=DATE:20190707
DTEND;VALUE=DATE:20190708
DTSTAMP:20260424T122142
CREATED:20190209T165002Z
LAST-MODIFIED:20190209T165002Z
UID:867-1562457600-1562543999@hedonmethodistchurch.org.uk
SUMMARY:Church Family Day Out - Arram
DESCRIPTION:
URL:https://hedonmethodistchurch.org.uk/event/church-family-day-out-arram/
END:VEVENT
BEGIN:VEVENT
DTSTART;TZID=Europe/London:20190707T094500
DTEND;TZID=Europe/London:20190707T101500
DTSTAMP:20260424T122142
CREATED:20190602T171259Z
LAST-MODIFIED:20190602T171259Z
UID:1293-1562492700-1562494500@hedonmethodistchurch.org.uk
SUMMARY:Prayer in The Junction
DESCRIPTION:
URL:https://hedonmethodistchurch.org.uk/event/prayer-in-the-junction-26/
END:VEVENT
BEGIN:VEVENT
DTSTART;TZID=Europe/London:20190707T103000
DTEND;TZID=Europe/London:20190707T113000
DTSTAMP:20260424T122142
CREATED:20190602T171652Z
LAST-MODIFIED:20190602T171652Z
UID:1309-1562495400-1562499000@hedonmethodistchurch.org.uk
SUMMARY:Morning Worship
DESCRIPTION:
URL:https://hedonmethodistchurch.org.uk/event/morning-worship-27/
END:VEVENT
BEGIN:VEVENT
DTSTART;TZID=Europe/London:20190707T103000
DTEND;TZID=Europe/London:20190707T113000
DTSTAMP:20260424T122142
CREATED:20190602T172239Z
LAST-MODIFIED:20190602T172239Z
UID:1327-1562495400-1562499000@hedonmethodistchurch.org.uk
SUMMARY:Sunday Club
DESCRIPTION:
URL:https://hedonmethodistchurch.org.uk/event/sunday-club-26/
END:VEVENT
END:VCALENDAR