BEGIN:VCALENDAR
VERSION:2.0
PRODID:-//Hedon Methodist Church - ECPv5.14.1//NONSGML v1.0//EN
CALSCALE:GREGORIAN
METHOD:PUBLISH
X-WR-CALNAME:Hedon Methodist Church
X-ORIGINAL-URL:https://hedonmethodistchurch.org.uk
X-WR-CALDESC:Events for Hedon Methodist Church
BEGIN:VTIMEZONE
TZID:Europe/London
BEGIN:DAYLIGHT
TZOFFSETFROM:+0000
TZOFFSETTO:+0100
TZNAME:BST
DTSTART:20190331T010000
END:DAYLIGHT
BEGIN:STANDARD
TZOFFSETFROM:+0100
TZOFFSETTO:+0000
TZNAME:GMT
DTSTART:20191027T010000
END:STANDARD
END:VTIMEZONE
BEGIN:VEVENT
DTSTART;TZID=Europe/London:20190704T143000
DTEND;TZID=Europe/London:20190704T160000
DTSTAMP:20260424T164011
CREATED:20190602T174100Z
LAST-MODIFIED:20190602T174100Z
UID:1368-1562250600-1562256000@hedonmethodistchurch.org.uk
SUMMARY:The Junction Community Coffee Lounge
DESCRIPTION:
URL:https://hedonmethodistchurch.org.uk/event/the-junction-community-coffee-lounge-4/
END:VEVENT
BEGIN:VEVENT
DTSTART;TZID=Europe/London:20190704T193000
DTEND;TZID=Europe/London:20190704T203000
DTSTAMP:20260424T164011
CREATED:20190602T180231Z
LAST-MODIFIED:20190602T180231Z
UID:1434-1562268600-1562272200@hedonmethodistchurch.org.uk
SUMMARY:Women's Institute
DESCRIPTION:
URL:https://hedonmethodistchurch.org.uk/event/womens-institute-11/
END:VEVENT
END:VCALENDAR