BEGIN:VCALENDAR
VERSION:2.0
PRODID:-//Hedon Methodist Church - ECPv5.14.1//NONSGML v1.0//EN
CALSCALE:GREGORIAN
METHOD:PUBLISH
X-WR-CALNAME:Hedon Methodist Church
X-ORIGINAL-URL:https://hedonmethodistchurch.org.uk
X-WR-CALDESC:Events for Hedon Methodist Church
BEGIN:VTIMEZONE
TZID:Europe/London
BEGIN:DAYLIGHT
TZOFFSETFROM:+0000
TZOFFSETTO:+0100
TZNAME:BST
DTSTART:20190331T010000
END:DAYLIGHT
BEGIN:STANDARD
TZOFFSETFROM:+0100
TZOFFSETTO:+0000
TZNAME:GMT
DTSTART:20191027T010000
END:STANDARD
END:VTIMEZONE
BEGIN:VEVENT
DTSTART;TZID=Europe/London:20190626T140000
DTEND;TZID=Europe/London:20190626T150000
DTSTAMP:20260425T041648
CREATED:20190508T070941Z
LAST-MODIFIED:20190508T071232Z
UID:1219-1561557600-1561561200@hedonmethodistchurch.org.uk
SUMMARY:60 Minutes Bible Study
DESCRIPTION:
URL:https://hedonmethodistchurch.org.uk/event/60-minutes-bible-study-24/
END:VEVENT
BEGIN:VEVENT
DTSTART;TZID=Europe/London:20190626T191500
DTEND;TZID=Europe/London:20190626T201500
DTSTAMP:20260425T041648
CREATED:20190508T072010Z
LAST-MODIFIED:20190508T072010Z
UID:1229-1561576500-1561580100@hedonmethodistchurch.org.uk
SUMMARY:Handbells
DESCRIPTION:
URL:https://hedonmethodistchurch.org.uk/event/handbells-21/
END:VEVENT
BEGIN:VEVENT
DTSTART;TZID=Europe/London:20190626T193000
DTEND;TZID=Europe/London:20190626T203000
DTSTAMP:20260425T041648
CREATED:20190602T173719Z
LAST-MODIFIED:20190602T173719Z
UID:1356-1561577400-1561581000@hedonmethodistchurch.org.uk
SUMMARY:Singing Group
DESCRIPTION:
URL:https://hedonmethodistchurch.org.uk/event/singing-group-4/
END:VEVENT
END:VCALENDAR