BEGIN:VCALENDAR
VERSION:2.0
PRODID:-//Hedon Methodist Church - ECPv5.14.1//NONSGML v1.0//EN
CALSCALE:GREGORIAN
METHOD:PUBLISH
X-WR-CALNAME:Hedon Methodist Church
X-ORIGINAL-URL:https://hedonmethodistchurch.org.uk
X-WR-CALDESC:Events for Hedon Methodist Church
BEGIN:VTIMEZONE
TZID:Europe/London
BEGIN:DAYLIGHT
TZOFFSETFROM:+0000
TZOFFSETTO:+0100
TZNAME:BST
DTSTART:20190331T010000
END:DAYLIGHT
BEGIN:STANDARD
TZOFFSETFROM:+0100
TZOFFSETTO:+0000
TZNAME:GMT
DTSTART:20191027T010000
END:STANDARD
END:VTIMEZONE
BEGIN:VEVENT
DTSTART;TZID=Europe/London:20190620T143000
DTEND;TZID=Europe/London:20190620T160000
DTSTAMP:20260425T130140
CREATED:20190602T174000Z
LAST-MODIFIED:20190602T174000Z
UID:1364-1561041000-1561046400@hedonmethodistchurch.org.uk
SUMMARY:The Junction Community Coffee Lounge
DESCRIPTION:
URL:https://hedonmethodistchurch.org.uk/event/the-junction-community-coffee-lounge-2/
END:VEVENT
BEGIN:VEVENT
DTSTART;TZID=Europe/London:20190620T190000
DTEND;TZID=Europe/London:20190620T210000
DTSTAMP:20260425T130140
CREATED:20190603T145125Z
LAST-MODIFIED:20190603T145125Z
UID:1438-1561057200-1561064400@hedonmethodistchurch.org.uk
SUMMARY:Digital Communications Training Night
DESCRIPTION:South Holderness Methodist Circuit. \nLed by Elliot Crippen. \nAn invite to all churches in the South Holderness circuit to come along and learn how websites and digital communications can enhance and expand your outreach and message. \n 
URL:https://hedonmethodistchurch.org.uk/event/digital-communications-training-night/
END:VEVENT
END:VCALENDAR