BEGIN:VCALENDAR
VERSION:2.0
PRODID:-//Hedon Methodist Church - ECPv5.14.1//NONSGML v1.0//EN
CALSCALE:GREGORIAN
METHOD:PUBLISH
X-WR-CALNAME:Hedon Methodist Church
X-ORIGINAL-URL:https://hedonmethodistchurch.org.uk
X-WR-CALDESC:Events for Hedon Methodist Church
BEGIN:VTIMEZONE
TZID:Europe/London
BEGIN:DAYLIGHT
TZOFFSETFROM:+0000
TZOFFSETTO:+0100
TZNAME:BST
DTSTART:20190331T010000
END:DAYLIGHT
BEGIN:STANDARD
TZOFFSETFROM:+0100
TZOFFSETTO:+0000
TZNAME:GMT
DTSTART:20191027T010000
END:STANDARD
END:VTIMEZONE
BEGIN:VEVENT
DTSTART;TZID=Europe/London:20190616T094500
DTEND;TZID=Europe/London:20190616T101500
DTSTAMP:20260425T185452
CREATED:20190602T171122Z
LAST-MODIFIED:20190602T171122Z
UID:1287-1560678300-1560680100@hedonmethodistchurch.org.uk
SUMMARY:Prayer in The Junction
DESCRIPTION:
URL:https://hedonmethodistchurch.org.uk/event/prayer-in-the-junction-23/
END:VEVENT
BEGIN:VEVENT
DTSTART;TZID=Europe/London:20190616T103000
DTEND;TZID=Europe/London:20190616T113000
DTSTAMP:20260425T185452
CREATED:20190602T171534Z
LAST-MODIFIED:20190602T173008Z
UID:1303-1560681000-1560684600@hedonmethodistchurch.org.uk
SUMMARY:Morning Worship
DESCRIPTION:Rev Tom Parker
URL:https://hedonmethodistchurch.org.uk/event/morning-worship-24/
END:VEVENT
BEGIN:VEVENT
DTSTART;TZID=Europe/London:20190616T103000
DTEND;TZID=Europe/London:20190616T113000
DTSTAMP:20260425T185452
CREATED:20190602T172124Z
LAST-MODIFIED:20190602T172124Z
UID:1321-1560681000-1560684600@hedonmethodistchurch.org.uk
SUMMARY:Sunday Club
DESCRIPTION:
URL:https://hedonmethodistchurch.org.uk/event/sunday-club-23/
END:VEVENT
BEGIN:VEVENT
DTSTART;TZID=Europe/London:20190616T143000
DTEND;TZID=Europe/London:20190616T153000
DTSTAMP:20260425T185452
CREATED:20190602T172522Z
LAST-MODIFIED:20190602T172522Z
UID:1335-1560695400-1560699000@hedonmethodistchurch.org.uk
SUMMARY:Afternoon Service at Holderness Grange
DESCRIPTION:
URL:https://hedonmethodistchurch.org.uk/event/afternoon-service-at-holderness-grange-4/
END:VEVENT
BEGIN:VEVENT
DTSTART;TZID=Europe/London:20190616T183000
DTEND;TZID=Europe/London:20190616T193000
DTSTAMP:20260425T185452
CREATED:20190602T173425Z
LAST-MODIFIED:20190602T173425Z
UID:1346-1560709800-1560713400@hedonmethodistchurch.org.uk
SUMMARY:Evening Worship at Holderness Road
DESCRIPTION:
URL:https://hedonmethodistchurch.org.uk/event/evening-worship-at-holderness-road/
END:VEVENT
BEGIN:VEVENT
DTSTART;TZID=Europe/London:20190616T183000
DTEND;TZID=Europe/London:20190616T193000
DTSTAMP:20260425T185452
CREATED:20190602T173606Z
LAST-MODIFIED:20190602T173606Z
UID:1352-1560709800-1560713400@hedonmethodistchurch.org.uk
SUMMARY:Alpha Course
DESCRIPTION:
URL:https://hedonmethodistchurch.org.uk/event/alpha-course-2/
END:VEVENT
END:VCALENDAR