BEGIN:VCALENDAR
VERSION:2.0
PRODID:-//Hedon Methodist Church - ECPv5.14.1//NONSGML v1.0//EN
CALSCALE:GREGORIAN
METHOD:PUBLISH
X-WR-CALNAME:Hedon Methodist Church
X-ORIGINAL-URL:https://hedonmethodistchurch.org.uk
X-WR-CALDESC:Events for Hedon Methodist Church
BEGIN:VTIMEZONE
TZID:Europe/London
BEGIN:DAYLIGHT
TZOFFSETFROM:+0000
TZOFFSETTO:+0100
TZNAME:BST
DTSTART:20190331T010000
END:DAYLIGHT
BEGIN:STANDARD
TZOFFSETFROM:+0100
TZOFFSETTO:+0000
TZNAME:GMT
DTSTART:20191027T010000
END:STANDARD
END:VTIMEZONE
BEGIN:VEVENT
DTSTART;TZID=Europe/London:20190610T093000
DTEND;TZID=Europe/London:20190610T113000
DTSTAMP:20260426T040443
CREATED:20190508T064914Z
LAST-MODIFIED:20190508T064914Z
UID:1156-1560159000-1560166200@hedonmethodistchurch.org.uk
SUMMARY:Art Club
DESCRIPTION:
URL:https://hedonmethodistchurch.org.uk/event/art-club-18/
END:VEVENT
BEGIN:VEVENT
DTSTART;TZID=Europe/London:20190610T133000
DTEND;TZID=Europe/London:20190610T153000
DTSTAMP:20260426T040443
CREATED:20190508T065950Z
LAST-MODIFIED:20190508T065950Z
UID:1175-1560173400-1560180600@hedonmethodistchurch.org.uk
SUMMARY:Craft Club
DESCRIPTION:
URL:https://hedonmethodistchurch.org.uk/event/craft-club-18/
END:VEVENT
BEGIN:VEVENT
DTSTART;TZID=Europe/London:20190610T193000
DTEND;TZID=Europe/London:20190610T210000
DTSTAMP:20260426T040443
CREATED:20190508T070307Z
LAST-MODIFIED:20190508T070307Z
UID:1191-1560195000-1560200400@hedonmethodistchurch.org.uk
SUMMARY:Youth Club
DESCRIPTION:
URL:https://hedonmethodistchurch.org.uk/event/youth-club-20/
END:VEVENT
END:VCALENDAR