BEGIN:VCALENDAR
VERSION:2.0
PRODID:-//Hedon Methodist Church - ECPv5.14.1//NONSGML v1.0//EN
CALSCALE:GREGORIAN
METHOD:PUBLISH
X-WR-CALNAME:Hedon Methodist Church
X-ORIGINAL-URL:https://hedonmethodistchurch.org.uk
X-WR-CALDESC:Events for Hedon Methodist Church
BEGIN:VTIMEZONE
TZID:Europe/London
BEGIN:DAYLIGHT
TZOFFSETFROM:+0000
TZOFFSETTO:+0100
TZNAME:BST
DTSTART:20190331T010000
END:DAYLIGHT
BEGIN:STANDARD
TZOFFSETFROM:+0100
TZOFFSETTO:+0000
TZNAME:GMT
DTSTART:20191027T010000
END:STANDARD
END:VTIMEZONE
BEGIN:VEVENT
DTSTART;TZID=Europe/London:20190807T193000
DTEND;TZID=Europe/London:20190807T203000
DTSTAMP:20260422T170052
CREATED:20190808T153625Z
LAST-MODIFIED:20190808T153625Z
UID:1554-1565206200-1565209800@hedonmethodistchurch.org.uk
SUMMARY:Ladies Friendship Circle
DESCRIPTION:
URL:https://hedonmethodistchurch.org.uk/event/ladies-friendship-circle-7/
END:VEVENT
END:VCALENDAR